BEGIN:VCALENDAR
PRODID:-//MotorSport Vision//Race Calendar//EN
X-WR-CALNAME:Cadwell Park Calendar
BEGIN:VEVENT
SUMMARY:Spark Developments Alan Healy Memorial Rally
LOCATION:Cadwell Park (Full Circuit)
DESCRIPTION:https://www.cadwellpark.co.uk/2026/april/the-alan-healy-memorial-cadwell-stages
UID:c506a882-fb59-4ea9-915e-7006a065a463
DTSTART;VALUE=DATE:20260426
DTEND;VALUE=DATE:20260427
DTSTAMP:20260424T113604Z
SEQUENCE:0
END:VEVENT
BEGIN:VEVENT
SUMMARY:Modified Live - Season Starter
LOCATION:Cadwell Park (Full Circuit)
DESCRIPTION:https://www.cadwellpark.co.uk/2026/may/modified-live---season-starter
UID:d4ff2fa6-035c-4ade-8954-170566ae0353
DTSTART;VALUE=DATE:20260504
DTEND;VALUE=DATE:20260505
DTSTAMP:20260424T113604Z
SEQUENCE:0
END:VEVENT
BEGIN:VEVENT
SUMMARY:MSVR Club Car Championships
LOCATION:Cadwell Park (Full Circuit)
DESCRIPTION:https://www.cadwellpark.co.uk/2026/may/msvr-club-car-championships
UID:feed1c06-8e20-4d8a-bd27-ad5854ba2d44
DTSTART;VALUE=DATE:20260509
DTEND;VALUE=DATE:20260510
DTSTAMP:20260424T113604Z
SEQUENCE:0
END:VEVENT
BEGIN:VEVENT
SUMMARY:EnduroKA
LOCATION:Cadwell Park (Full Circuit)
DESCRIPTION:https://www.cadwellpark.co.uk/2026/may/enduroka
UID:a2ab6082-af64-470f-94a1-205a0740d795
DTSTART;VALUE=DATE:20260510
DTEND;VALUE=DATE:20260511
DTSTAMP:20260424T113604Z
SEQUENCE:0
END:VEVENT
BEGIN:VEVENT
SUMMARY:British Historic Motorcycle Championships
LOCATION:Cadwell Park
DESCRIPTION:
UID:96205356-c001-4611-ad75-37a1fee40760
DTSTART;VALUE=DATE:20260516
DTEND;VALUE=DATE:20260518
DTSTAMP:20260424T113604Z
SEQUENCE:0
END:VEVENT
BEGIN:VEVENT
SUMMARY:BMCRC Club Bike Championships
LOCATION:Cadwell Park
DESCRIPTION:
UID:3f36ba11-b1e3-484b-ad2b-7ce67f14ec10
DTSTART;VALUE=DATE:20260530
DTEND;VALUE=DATE:20260601
DTSTAMP:20260424T113604Z
SEQUENCE:0
END:VEVENT
BEGIN:VEVENT
SUMMARY:Historic Wolds Trophy
LOCATION:Cadwell Park (Full Circuit)
DESCRIPTION:https://www.cadwellpark.co.uk//2026/june/historic-wolds-trophy
UID:7dd194b0-c2ee-4d37-a97d-9bb35ceb2a2d
DTSTART;VALUE=DATE:20260613
DTEND;VALUE=DATE:20260615
DTSTAMP:20260424T113604Z
SEQUENCE:0
END:VEVENT
BEGIN:VEVENT
SUMMARY:Vintage Sports Car Festival
LOCATION:Cadwell Park (Full Circuit)
DESCRIPTION:https://www.cadwellpark.co.uk/2026/june/vintage-motorsport-festival
UID:8ec0d246-9ed7-4984-bb21-7c51498a4e6a
DTSTART;VALUE=DATE:20260620
DTEND;VALUE=DATE:20260621
DTSTAMP:20260424T113604Z
SEQUENCE:0
END:VEVENT
BEGIN:VEVENT
SUMMARY:Classic Sports Car Series
LOCATION:Cadwell Park (Full Circuit)
DESCRIPTION:
UID:83f41036-533a-4db3-aa52-3259e9b2464f
DTSTART;VALUE=DATE:20260627
DTEND;VALUE=DATE:20260628
DTSTAMP:20260424T113604Z
SEQUENCE:0
END:VEVENT
BEGIN:VEVENT
SUMMARY:Cult Classics
LOCATION:Cadwell Park (Full Circuit)
DESCRIPTION:https://www.cadwellpark.co.uk/2026/june/cult-classics
UID:e6407daf-fd87-4b03-a71f-fffccac72c77
DTSTART;VALUE=DATE:20260628
DTEND;VALUE=DATE:20260629
DTSTAMP:20260424T113604Z
SEQUENCE:0
END:VEVENT
BEGIN:VEVENT
SUMMARY:750 Motor Club Sports and Saloons
LOCATION:Cadwell Park
DESCRIPTION:
UID:a91bc56e-d60f-4f26-8099-39e861e2a4e5
DTSTART;VALUE=DATE:20260718
DTEND;VALUE=DATE:20260720
DTSTAMP:20260424T113604Z
SEQUENCE:0
END:VEVENT
BEGIN:VEVENT
SUMMARY:No Limits Racing Club Bike Championships
LOCATION:Cadwell Park
DESCRIPTION:
UID:7e87331f-d724-4116-860e-aeeab03cfe78
DTSTART;VALUE=DATE:20260725
DTEND;VALUE=DATE:20260727
DTSTAMP:20260424T113604Z
SEQUENCE:0
END:VEVENT
BEGIN:VEVENT
SUMMARY:Classic Sports and GT Cars (1950s to 1970s)
LOCATION:Cadwell Park (Full Circuit)
DESCRIPTION:
UID:3e183152-6257-4e1f-9291-d35bd5da65fd
DTSTART;VALUE=DATE:20260801
DTEND;VALUE=DATE:20260802
DTSTAMP:20260424T113604Z
SEQUENCE:0
END:VEVENT
BEGIN:VEVENT
SUMMARY:BRSCC Mega Mix Weekend
LOCATION:Cadwell Park
DESCRIPTION:
UID:c3af456c-41c1-41cd-892d-94b0afae8d51
DTSTART;VALUE=DATE:20260808
DTEND;VALUE=DATE:20260810
DTSTAMP:20260424T113604Z
SEQUENCE:0
END:VEVENT
BEGIN:VEVENT
SUMMARY:BMCRC Club Bike Championships
LOCATION:Cadwell Park (Full Circuit)
DESCRIPTION:
UID:ad8d35c3-b027-472d-9171-4d53f7553917
DTSTART;VALUE=DATE:20260815
DTEND;VALUE=DATE:20260817
DTSTAMP:20260424T113604Z
SEQUENCE:0
END:VEVENT
BEGIN:VEVENT
SUMMARY:ZYN British Superbike Championship
LOCATION:Cadwell Park (Full Circuit)
DESCRIPTION:https://www.cadwellpark.co.uk/2026/august/british-superbike-championship
UID:0b141de5-8465-4cb0-8ff8-808ab1191613
DTSTART;VALUE=DATE:20260829
DTEND;VALUE=DATE:20260901
DTSTAMP:20260424T113604Z
SEQUENCE:0
END:VEVENT
BEGIN:VEVENT
SUMMARY:British Historic Motorcycle Championships
LOCATION:Cadwell Park
DESCRIPTION:
UID:96afc404-681b-486c-a042-0e0cc559ad02
DTSTART;VALUE=DATE:20260912
DTEND;VALUE=DATE:20260914
DTSTAMP:20260424T113604Z
SEQUENCE:0
END:VEVENT
BEGIN:VEVENT
SUMMARY:Modified Live - Season Finale
LOCATION:Cadwell Park
DESCRIPTION:https://www.cadwellpark.co.uk/2026/september/modified-live---season-finale
UID:d9d3bbca-d187-47e4-8865-fc44163d29e5
DTSTART;VALUE=DATE:20260920
DTEND;VALUE=DATE:20260921
DTSTAMP:20260424T113604Z
SEQUENCE:0
END:VEVENT
BEGIN:VEVENT
SUMMARY:Cadwell Moto
LOCATION:Cadwell Park (Full Circuit)
DESCRIPTION:https://www.cadwellpark.co.uk/2026/september/cadwell-moto-cp-sep-2026-event
UID:e0e1f89d-5606-4c6d-b0b1-483af7078a6c
DTSTART;VALUE=DATE:20260926
DTEND;VALUE=DATE:20260928
DTSTAMP:20260424T113604Z
SEQUENCE:0
END:VEVENT
BEGIN:VEVENT
SUMMARY:Norasport & British Supermoto Championships
LOCATION:Cadwell Park (Full Circuit)
DESCRIPTION:
UID:be5ecd4c-086d-4f63-81d8-8b269f06580d
DTSTART;VALUE=DATE:20261017
DTEND;VALUE=DATE:20261019
DTSTAMP:20260424T113604Z
SEQUENCE:0
END:VEVENT
BEGIN:VEVENT
SUMMARY:Cadwell Park Stage Rally and Fireworks
LOCATION:Cadwell Park
DESCRIPTION:https://www.cadwellpark.co.uk/2026/november/rally-&-fireworks
UID:2ca9c4eb-deff-4b6a-934a-48d2a9f296f5
DTSTART;VALUE=DATE:20261122
DTEND;VALUE=DATE:20261123
DTSTAMP:20260424T113604Z
SEQUENCE:0
END:VEVENT
END:VCALENDAR
